BEGIN:VCALENDAR
VERSION:2.0
PRODID:-//Canyon County Fair - ECPv6.15.20//NONSGML v1.0//EN
CALSCALE:GREGORIAN
METHOD:PUBLISH
X-WR-CALNAME:Canyon County Fair
X-ORIGINAL-URL:https://www.canyoncountyfair.org
X-WR-CALDESC:Events for Canyon County Fair
REFRESH-INTERVAL;VALUE=DURATION:PT1H
X-Robots-Tag:noindex
X-PUBLISHED-TTL:PT1H
BEGIN:VTIMEZONE
TZID:America/Boise
BEGIN:DAYLIGHT
TZOFFSETFROM:-0700
TZOFFSETTO:-0600
TZNAME:MDT
DTSTART:20250309T090000
END:DAYLIGHT
BEGIN:STANDARD
TZOFFSETFROM:-0600
TZOFFSETTO:-0700
TZNAME:MST
DTSTART:20251102T080000
END:STANDARD
BEGIN:DAYLIGHT
TZOFFSETFROM:-0700
TZOFFSETTO:-0600
TZNAME:MDT
DTSTART:20260308T090000
END:DAYLIGHT
BEGIN:STANDARD
TZOFFSETFROM:-0600
TZOFFSETTO:-0700
TZNAME:MST
DTSTART:20261101T080000
END:STANDARD
BEGIN:DAYLIGHT
TZOFFSETFROM:-0700
TZOFFSETTO:-0600
TZNAME:MDT
DTSTART:20270314T090000
END:DAYLIGHT
BEGIN:STANDARD
TZOFFSETFROM:-0600
TZOFFSETTO:-0700
TZNAME:MST
DTSTART:20271107T080000
END:STANDARD
END:VTIMEZONE
BEGIN:VEVENT
DTSTART;VALUE=DATE:20260424
DTEND;VALUE=DATE:20260427
DTSTAMP:20260421T050218
CREATED:20250612T002532Z
LAST-MODIFIED:20260224T212700Z
UID:7083-1776988800-1777247999@www.canyoncountyfair.org
SUMMARY:Nampa Home and Lifestyle Expo
DESCRIPTION:Transform your house into the home you’ve always wanted at the Nampa Home & Lifestyle Expo. From roof repairs to full-scale renovations\, you’ll meet the right experts to bring your vision to life. Explore a wide variety of local and national vendors showcasing the latest products\, services\, and home improvement solutions — many with show-only specials you won’t find anywhere else. Don’t miss this opportunity to get inspired\, find trusted contractors\, and make your next project easier and more affordable.
URL:https://www.canyoncountyfair.org/event/event-20/
LOCATION:The Center at the Canyon County Fair\, 110 County Fair Ave\, Caldwell\, ID\, 83605\, United States
ATTACH;FMTTYPE=image/jpeg:https://www.canyoncountyfair.org/wp-content/uploads/2025/06/Nampa-Home-Lifestyle-Expo-Website-Calendar-Listing-correct-.jpg
END:VEVENT
BEGIN:VEVENT
DTSTART;VALUE=DATE:20260425
DTEND;VALUE=DATE:20260426
DTSTAMP:20260421T050218
CREATED:20251222T204632Z
LAST-MODIFIED:20260209T181312Z
UID:8041-1777075200-1777161599@www.canyoncountyfair.org
SUMMARY:Bird Breeders of Idaho - 2026 Spring Fling Show
DESCRIPTION:
URL:https://www.canyoncountyfair.org/event/poultry-show/
LOCATION:Canyon County Fair Building\, 111 S 22nd Avenue\, Caldwell\, ID\, 83605\, United States
ATTACH;FMTTYPE=image/png:https://www.canyoncountyfair.org/wp-content/uploads/2025/09/birdbreeders.logo_.png
END:VEVENT
BEGIN:VEVENT
DTSTART;TZID=America/Boise:20260429T160000
DTEND;TZID=America/Boise:20260429T220000
DTSTAMP:20260421T050219
CREATED:20260417T144430Z
LAST-MODIFIED:20260417T144430Z
UID:8440-1777478400-1777500000@www.canyoncountyfair.org
SUMMARY:KPOP Guardians Live Show
DESCRIPTION:Get ready for an epic live experience where music 🎶\, lights ✨\, and high-energy performances 🔥 come together — 𝗞𝗣𝗢𝗣 𝗚𝗨𝗔𝗥𝗗𝗜𝗔𝗡𝗦 𝗟𝗜𝗩𝗘 𝗦𝗛𝗢𝗪 is coming with two incredible shows 🎤💥 bringing the excitement ⚡\, emotion 💖\, and adrenaline 🌟 fans around the world love! \n🎤✨ This is the 𝐨𝐧𝐥𝐲 𝐥𝐢𝐯𝐞 𝐊-𝐏𝐎𝐏 𝐭𝐫𝐢𝐛𝐮𝐭𝐞 𝐬𝐡𝐨𝐰 𝐢𝐧 𝐭𝗵𝗲 𝗨𝗦𝗔\, bringing the biggest hits and the most iconic moments inspired by your favorite artists. \n👯‍♀️ 𝐏𝐫𝐨𝐟𝐞𝐬𝐬𝐢𝐨𝐧𝐚𝐥 𝐝𝐚𝐧𝐜𝐞𝐫𝐬🎶 𝐀𝐮𝐭𝐡𝐞𝐧𝐭𝐢𝐜 𝐜𝐡𝐨𝐫𝐞𝐨𝐠𝐫𝐚𝐩𝐡𝐲✨ 𝐑𝐞𝐚𝐥 𝐜𝐨𝐬𝐭𝐮𝐦𝐞𝐬 & 𝐬𝐩𝐞𝐜𝐢𝐚𝐥 𝐞𝐟𝐟𝐞𝐜𝐭𝐬
URL:https://www.canyoncountyfair.org/event/kpop-guardians-live-show/
LOCATION:The Center at the Canyon County Fair\, 110 County Fair Ave\, Caldwell\, ID\, 83605\, United States
ATTACH;FMTTYPE=image/jpeg:https://www.canyoncountyfair.org/wp-content/uploads/2026/04/Caldwell-26.jpeg
ORGANIZER;CN="DreamStage Productions":MAILTO:productionsdreamstage@gmail.com
END:VEVENT
END:VCALENDAR